BEGIN:VCALENDAR
VERSION:2.0
PRODID:-//Squarespace Inc/Squarespace 6//v6//EN
BEGIN:VEVENT
UID:5c5911d0e4966b5ce0373cb7@squarespace.com
DTSTAMP:20190205T043653Z
DTSTART:20190301T090000Z
DTEND:20190303T030000Z
SUMMARY:Australia For Christ Conference 
END:VEVENT
END:VCALENDAR
