BEGIN:VCALENDAR
VERSION:2.0
PRODID:-//Squarespace Inc/Squarespace 6//v6//EN
BEGIN:VEVENT
UID:5cf5fd727996b300014e8708@squarespace.com
DTSTAMP:20190611T021327Z
DTSTART:20190522T053000Z
DTEND:20190526T062900Z
SUMMARY:River Ministries International\, Tampa Florida Conference
END:VEVENT
END:VCALENDAR
