BEGIN:VCALENDAR
VERSION:2.0
PRODID:-//Squarespace Inc/Squarespace 6//v6//EN
BEGIN:VEVENT
UID:5cff0d4f8747100001be570f@squarespace.com
DTSTAMP:20190611T021118Z
DTSTART:20190518T230000Z
DTEND:20190519T110000Z
SUMMARY:Freedom Church LA 
END:VEVENT
END:VCALENDAR
