BEGIN:VCALENDAR
VERSION:2.0
PRODID:-//Squarespace Inc/Squarespace 6//v6//EN
BEGIN:VEVENT
UID:5ceca3dce5e5f004c921d375@squarespace.com
DTSTAMP:20190528T030220Z
DTSTART:20190514T030000Z
DTEND:20190517T040000Z
SUMMARY:Faith Life Church\, Seattle Washington 
END:VEVENT
END:VCALENDAR
