BEGIN:VCALENDAR
VERSION:2.0
PRODID:-//Squarespace Inc/Squarespace 6//v6//EN
BEGIN:VEVENT
UID:5c591588e5e5f00c71e8c085@squarespace.com
DTSTAMP:20190205T045300Z
DTSTART:20190330T080000Z
DTEND:20190331T060000Z
SUMMARY:Bridge Church 
END:VEVENT
END:VCALENDAR
