BEGIN:VCALENDAR
VERSION:2.0
PRODID:-//Squarespace Inc/Squarespace 6//v6//EN
BEGIN:VEVENT
UID:5c591377085229fbce5c288c@squarespace.com
DTSTAMP:20190205T044737Z
DTSTART:20190323T213000Z
DTEND:20190324T023000Z
SUMMARY:Encompass Church 
GEO:-37.694561;145.055073
LOCATION:31-61 McLeans Road\, Bundoora VIC 3088
END:VEVENT
END:VCALENDAR
