BEGIN:VCALENDAR
VERSION:2.0
PRODID:-//Squarespace Inc/Squarespace 6//v6//EN
BEGIN:VEVENT
UID:5c590cab652deafb6bdb1ac5@squarespace.com
DTSTAMP:20190205T041215Z
DTSTART:20190208T223000Z
DTEND:20190209T023000Z
SUMMARY:Crusade Training Day 
GEO:-38.176229;145.153234
LOCATION:Connect Christian Church\, 135 Golf Links Road\, Frankston
END:VEVENT
END:VCALENDAR
