BEGIN:VCALENDAR
VERSION:2.0
PRODID:-//Squarespace Inc/Squarespace 6//v6//EN
BEGIN:VEVENT
UID:5c590d49c830252ca2bfdc2d@squarespace.com
DTSTAMP:20190205T042447Z
DTSTART:20190209T220000Z
DTEND:20190210T083000Z
SUMMARY:Faith Christian Church 
GEO:-37.949538;145.209265
LOCATION:Faith Christian Church\, 307 Gladstone Road\, Dandenong North\, Au
 stralia
END:VEVENT
END:VCALENDAR
