BEGIN:VCALENDAR
VERSION:2.0
PRODID:-//Squarespace Inc/Squarespace 6//v6//EN
BEGIN:VEVENT
UID:5c590a35e5e5f00c71e84b5f@squarespace.com
DTSTAMP:20190205T040341Z
DTSTART:20190203T080000Z
DTEND:20190203T090000Z
SUMMARY:International City Church 
END:VEVENT
END:VCALENDAR
