BEGIN:VCALENDAR
VERSION:2.0
PRODID:-//Squarespace Inc/Squarespace 6//v6//EN
BEGIN:VEVENT
UID:5c5e2281085229b582b34be3@squarespace.com
DTSTAMP:20190209T004655Z
DTSTART:20190209T230000Z
DTEND:20190210T000000Z
SUMMARY:Faith Christian Church Monash 
GEO:-37.908202;145.155288
LOCATION:Faith Christian Church Monash Campus\, 19 McDonalds Lane\, Mulgrav
 e\, VIC\, 3170\, Australia
END:VEVENT
END:VCALENDAR
