BEGIN:VCALENDAR
VERSION:2.0
PRODID:-//Squarespace Inc/Squarespace 6//v6//EN
BEGIN:VEVENT
UID:5c590801e4966b5ce036d174@squarespace.com
DTSTAMP:20190205T035150Z
DTSTART:20190106T040000Z
DTEND:20190106T050000Z
SUMMARY:Planetshakers Southeast Campus 
END:VEVENT
END:VCALENDAR
