BEGIN:VCALENDAR
VERSION:2.0
PRODID:-//Squarespace Inc/Squarespace 6//v6//EN
BEGIN:VEVENT
UID:5c5909aee4966b5ce036e400@squarespace.com
DTSTAMP:20190205T035926Z
DTSTART:20190126T230000Z
DTEND:20190127T000000Z
SUMMARY:Connect Church Frankston 
GEO:-38.176229;145.153234
LOCATION:Connect Church Frankston\, 135 Golf Links Road\, Frankston\, Austr
 alia
END:VEVENT
END:VCALENDAR
