BEGIN:VCALENDAR
VERSION:2.0
PRODID:-//Squarespace Inc/Squarespace 6//v6//EN
BEGIN:VEVENT
UID:5b9754f470a6ad78e729e9db@squarespace.com
DTSTAMP:20180911T054126Z
DTSTART:20181124T223000Z
DTEND:20181125T023000Z
SUMMARY:Planetshakers Melbourne Campus
GEO:-37.829386;144.95569
LOCATION:Planetshakers City Church\, 400 City Road\, Southbank\, VIC\, 3006
 \, Australia
END:VEVENT
END:VCALENDAR
