BEGIN:VCALENDAR
VERSION:2.0
PRODID:-//Squarespace Inc/Squarespace 6//v6//EN
BEGIN:VEVENT
UID:5b9755a140ec9af58bcfdf6f@squarespace.com
DTSTAMP:20180911T054211Z
DTSTART:20181208T050000Z
DTEND:20181216T060000Z
SUMMARY:Uganda Crusade 
END:VEVENT
END:VCALENDAR
